BEGIN:VCALENDAR
VERSION:2.0
PRODID:-//Departamento de Física - USM - ECPv6.1.3//NONSGML v1.0//EN
CALSCALE:GREGORIAN
METHOD:PUBLISH
X-ORIGINAL-URL:https://fisica.usm.cl
X-WR-CALDESC:Events for Departamento de Física - USM
REFRESH-INTERVAL;VALUE=DURATION:PT1H
X-Robots-Tag:noindex
X-PUBLISHED-TTL:PT1H
BEGIN:VTIMEZONE
TZID:America/Santiago
BEGIN:STANDARD
TZOFFSETFROM:-0300
TZOFFSETTO:-0400
TZNAME:-04
DTSTART:20240407T030000
END:STANDARD
BEGIN:DAYLIGHT
TZOFFSETFROM:-0400
TZOFFSETTO:-0300
TZNAME:-03
DTSTART:20240908T040000
END:DAYLIGHT
END:VTIMEZONE
BEGIN:VEVENT
DTSTART;TZID=America/Santiago:20240315T093500
DTEND;TZID=America/Santiago:20240315T093500
DTSTAMP:20260424T065452
CREATED:20240314T120932Z
LAST-MODIFIED:20240314T121157Z
UID:10000239-1710495300-1710495300@fisica.usm.cl
SUMMARY:Defensa proyecto de investigación - Damian Melo Valenzuela
DESCRIPTION:Defensa proyecto de investigación para optar al grado de Licenciado en Física del alumno: \n \n  \nDAMIAN MELO VALENZUELA \nFecha: viernes 15 de marzo 2024 a las 9:35 hrs. \nLugar : SALA C225 \nTema :Diseño de implementación de un sistema de medida de propiedades termoeléctricas y de transporte de spin. \nComisión: \n\nDr. Carlos García\, profesor guía\nDr. Cristian Acevedo\nDr. Hugo Alarcón
URL:https://fisica.usm.cl/evento/defensa-proyecto-de-investigacion-damian-melo-valenzuela/
LOCATION:C-225\, Av. españa 1680\, Valparaiso\, Chile
CATEGORIES:Examen de grado
END:VEVENT
END:VCALENDAR